Workbook

Sheet DN06 Wholesalers
A1: Prefix | B1: CatNo | C1: Colour | D1: ItemNo | E1: Description | F1: List Price (excl GST) | G1: List Price(incl GST) | H1: Per | I1: UOM | J1: Barcodes | K1: SAP Local COS | L1: Replaces/Substitute | M1: Availability/Notes
A2: Smoke Alarm Transition & New Heat Alarm
A3: CLI | B3: 755HA5L | D3: 755HA5L | E3: Heat Alarm, Surface, 230V, Lithium Batt | F3: 129.15 | G3: 142.07 | H3: 1 | I3: PCE | J3: 3606488085057 | K3: 3606488085057 | M3: Available on 15.07.2026
A4: CLI | B4: 755PSMA5L | D4: 755PSMA5L | E4: Smoke Alarm 230V, 10yrs Lithium battery | F4: 103.38 | G4: 113.72 | H4: 1 | I4: PCE | J4: 3606487696407 | K4: 3606487696407 | L4: 755RLPSMA4 | M4: Available on 15.07.2026
A5: CLI | B5: 755PSMA5 | D5: 755PSMA5 | E5: Smoke Alarm 230V | F5: 58.11 | G5: 63.92 | H5: 1 | I5: PCE | J5: 3606487696391 | K5: 3606487696391 | L5: 755PSMA4 | M5: Available on 15.07.2026
A6: CLI | B6: 755RB5 | D6: 755RB5 | E6: Relay Base | F6: 105.24 | G6: 115.76 | H6: 1 | I6: PCE | J6: 3606487696414 | K6: 3606487696414 | L6: 755RB | M6: Available on 15.07.2026
A7: New MAXBAR Range
A8: CLI | B8: MX9B113 | D8: MX9B113 | E8: MAX9 Busbar 1PN 13 modules | F8: 80 | G8: 88 | H8: 1 | I8: PCE | J8: 3606488056873 | K8: 3606488056873 | L8: MX9B115 | M8: Available on 01.07.2026
A9: CLI | B9: MX9B113N | D9: MX9B113N | E9: MAX9 Busbar 1PN w N Block Acc 13 modules | F9: 75 | G9: 82.5 | H9: 1 | I9: PCE | J9: 3606488056811 | K9: 3606488056811 | L9: MX9B115N | M9: Available on 01.07.2026
A10: CLI | B10: MX9B118 | D10: MX9B118 | E10: MAX9 Busbar 1PN 18 modules | F10: 90 | G10: 99 | H10: 1 | I10: PCE | J10: 3606488056880 | K10: 3606488056880 | L10: MX9B115 | M10: Available on 01.07.2026
A11: CLI | B11: MX9B118N | D11: MX9B118N | E11: MAX9 Busbar 1PN w N Block Acc 18 modules | F11: 85 | G11: 93.5 | H11: 1 | I11: PCE | J11: 3606488056828 | K11: 3606488056828 | L11: MX9B115N | M11: Available on 01.07.2026
A12: CLI | B12: MX9B121 | D12: MX9B121 | E12: MAX9 Busbar 1PN 21 modules | F12: 110 | G12: 121 | H12: 1 | I12: PCE | J12: 3606488061976 | K12: 3606488061976 | L12: MX9B315 | M12: Available on 01.07.2026
A13: CLI | B13: MX9B313 | D13: MX9B313 | E13: MAX9 Busbar 3PN 13 modules | F13: 125 | G13: 137.5 | H13: 1 | I13: PCE | J13: 3606488056903 | K13: 3606488056903 | L13: MX9B315 | M13: Available on 01.07.2026
A14: CLI | B14: MX9B313N | D14: MX9B313N | E14: MAX9 Busbar 3PN w N Block Acc 13 modules | F14: 115 | G14: 126.5 | H14: 1 | I14: PCE | J14: 3606488056842 | K14: 3606488056842 | L14: MX9B315N | M14: Available on 01.07.2026
A15: CLI | B15: MX9B318 | D15: MX9B318 | E15: MAX9 Busbar 3PN 18 modules | F15: 145 | G15: 159.5 | H15: 1 | I15: PCE | J15: 3606488056910 | K15: 3606488056910 | L15: MX9B315 | M15: Available on 01.07.2026
A16: CLI | B16: MX9B318N | D16: MX9B318N | E16: MAX9 Busbar 3PN w N Block Acc 18 modules | F16: 135 | G16: 148.5 | H16: 1 | I16: PCE | J16: 3606488056859 | K16: 3606488056859 | L16: MX9B315N | M16: Available on 01.07.2026
A17: CLI | B17: MX9B321 | D17: MX9B321 | E17: MAX9 Busbar 3PN 21 modules | F17: 155 | G17: 170.5 | H17: 1 | I17: PCE | J17: 3606488061983 | K17: 3606488061983 | M17: Available on 01.07.2026

Sheet Sheet1
A1: Schneider Electric Material Reference | B1: Wholesale List Price (excl GST)
A2: 9001KES18RES1 | B2: 92.51 | C2: 92.51 | D2: =INDEX('DN06 Wholesalers'!$M:$M,MATCH(Sheet1!A2,'DN06 Wholesalers'!$D:$D,0)) -> #N/A | E2: =B2=D2 -> #N/A
A3: 9001KES18RES2 | B3: 153.51 | C3: 153.51 | D3: =INDEX('DN06 Wholesalers'!$M:$M,MATCH(Sheet1!A3,'DN06 Wholesalers'!$D:$D,0)) -> #N/A | E3: =B3=D3 -> #N/A
A4: 9001KES18RES3 | B4: 153.51 | C4: 153.51 | D4: =INDEX('DN06 Wholesalers'!$M:$M,MATCH(Sheet1!A4,'DN06 Wholesalers'!$D:$D,0)) -> #N/A | E4: =B4=D4 -> #N/A
A5: 9001KR18 | B5: 166.32 | C5: 166.32 | D5: =INDEX('DN06 Wholesalers'!$M:$M,MATCH(Sheet1!A5,'DN06 Wholesalers'!$D:$D,0)) -> #N/A | E5: =B5=D5 -> #N/A
A6: MX9SB113F | B6: 82.50 | C6: 82.5 | D6: =INDEX('DN06 Wholesalers'!$M:$M,MATCH(Sheet1!A6,'DN06 Wholesalers'!$D:$D,0)) -> #N/A | E6: =B6=D6 -> #N/A
A7: MX9SB113S | B7: 82.50 | C7: 82.5 | D7: =INDEX('DN06 Wholesalers'!$M:$M,MATCH(Sheet1!A7,'DN06 Wholesalers'!$D:$D,0)) -> #N/A | E7: =B7=D7 -> #N/A
A8: MX9SB118F | B8: 97.50 | C8: 97.5 | D8: =INDEX('DN06 Wholesalers'!$M:$M,MATCH(Sheet1!A8,'DN06 Wholesalers'!$D:$D,0)) -> #N/A | E8: =B8=D8 -> #N/A
A9: MX9SB118S | B9: 97.50 | C9: 97.5 | D9: =INDEX('DN06 Wholesalers'!$M:$M,MATCH(Sheet1!A9,'DN06 Wholesalers'!$D:$D,0)) -> #N/A | E9: =B9=D9 -> #N/A
A10: MX9SB213F | B10: 120.00 | C10: 120 | D10: =INDEX('DN06 Wholesalers'!$M:$M,MATCH(Sheet1!A10,'DN06 Wholesalers'!$D:$D,0)) -> #N/A | E10: =B10=D10 -> #N/A
A11: MX9SB213S | B11: 120.00 | C11: 120 | D11: =INDEX('DN06 Wholesalers'!$M:$M,MATCH(Sheet1!A11,'DN06 Wholesalers'!$D:$D,0)) -> #N/A | E11: =B11=D11 -> #N/A
A12: MX9SB218F | B12: 135.00 | C12: 135 | D12: =INDEX('DN06 Wholesalers'!$M:$M,MATCH(Sheet1!A12,'DN06 Wholesalers'!$D:$D,0)) -> #N/A | E12: =B12=D12 -> #N/A
A13: MX9SB218S | B13: 135.00 | C13: 135 | D13: =INDEX('DN06 Wholesalers'!$M:$M,MATCH(Sheet1!A13,'DN06 Wholesalers'!$D:$D,0)) -> #N/A | E13: =B13=D13 -> #N/A
... A55: XV6C9V | B55: 545.00 | C55: 545 | D55: =INDEX('DN06 Wholesalers'!$M:$M,MATCH(Sheet1!A55,'DN06 Wholesalers'!$D:$D,0)) -> #N/A | E55: =B55=D55 -> #N/A
A56: XV6C9VW | B56: 545.00 | D56: =INDEX('DN06 Wholesalers'!$M:$M,MATCH(Sheet1!A56,'DN06 Wholesalers'!$D:$D,0)) -> #N/A | E56: =B56=D56 -> #N/A
A57: XVZ02W | B57: 21.10 | D57: =INDEX('DN06 Wholesalers'!$M:$M,MATCH(Sheet1!A57,'DN06 Wholesalers'!$D:$D,0)) -> #N/A | E57: =B57=D57 -> #N/A
